BEGIN:VCALENDAR
VERSION:2.0
PRODID:-//wp-events-plugin.com//7.2.3.1//EN
TZID:Europe/Berlin
X-WR-TIMEZONE:Europe/Berlin
BEGIN:VEVENT
UID:13@lernwelt-hund.de
DTSTART;TZID=Europe/Berlin:20240910T190000
DTEND;TZID=Europe/Berlin:20240925T203000
DTSTAMP:20240904T151258Z
URL:https://www.lernwelt-hund.de/events/abschied-nehmen-2-teilige-online-s
 eminarreihe/
SUMMARY:Abschied nehmen - Online-Seminarreihe
DESCRIPTION:Abschied nehmen - 2-teilige Online-Seminarreihe mit Dagmar Spil
 lner\n10.09. &amp\; 25.09.2024 - jeweils 19 bis 20 Uhr 30 via ZOOM\n\n\nTr
 auer\, die wir empfinden oder bei geliebten Menschen und Tieren erleben\, 
 betrifft uns früher oder später alle im Leben. Menschen können praktisc
 h um alles trauern: Menschen/Tiere\, Beziehungen\, Status\, Organe\, um nu
 r einige Punkte zu nennen. Wir sind die einzige Spezies\, die schon vorab 
 trauern kann.\n\nWie wir selbst mit unserer Trauer und trauernden Menschen
  und Tieren umgehen\, hängt maßgeblich davon ab\, was wir gelernt\, erfa
 hren und als hilfreich empfunden haben. Eigene Trauer wird oft nach kurzer
  Zeit „versteckt“\, um unser Umfeld nicht zu sehr zu belasten. Hinzu k
 ommen eigene Gedanken und Glaubenssätze\, die uns denken lassen\, die Tra
 uer um ein geliebtes Tier wäre weniger schlimm\, dabei ist Trauer kein We
 ttkampf.  Wenn wir über keine Bewältigungsstrategien verfügen\, dann k
 önnen wir die Tendenz beobachten\, dass von trauernden Menschen Abstand g
 ehalten wird. Wir möchten nicht stören\, nicht belasten\, keine schmerzh
 aften Erinnerungen hervorrufen und auch das Leid anderer zu sehen\, ist sc
 hwierig und macht uns hilflos. Darum tun wir häufig nichts oder gehen wor
 tlos zum Alltag über.\n\nIn der 2 teiligen Online-Seminarreihe beschäfti
 gen wir uns mit folgenden Inhalten:\n\nTeil 1: Wie kann ich trauernde Mens
 chen unterstützen? Insbesondere Kinder die z.B. den Verlust ihres Schulhu
 ndes (in Pension gegangen\, erkrankt oder gestorben) vermissen\, müssen e
 rleben\, dass sie ihren eigenen Gefühlen vertrauen können. Es ist in Ord
 nung traurig zu sein und zu erleben\, dass wir mit unserer Trauer nicht al
 lein sind.\n\nTeil 2: Wie kann ich mit meiner eigenen Trauer umgehen? Insb
 esondere dann\, wenn ich trauere und mit anderen Menschen zusammenarbeite\
 , die ebenfalls trauern. Sich im Vorfeld Gedanken darüber zu machen\, wel
 che Strategien und Hilfsangebote es gibt und was sich als passend für jed
 en Einzelnen von uns anfühlt\, kann dem Gedanken an eine Trauerzeit einig
 es an Schrecken nehmen.\n\nDie Onlineseminare sind auch getrennt voneinand
 er buchbar.\n\n&nbsp\;\n\nDie Referentin:\n\nDagmar Spillner lebt mit ihre
 m Mann und ihren 2 Kindern\, dem Dalmatiner-Malinois-Mix Helvi\, Hühnern\
 , Tauben und Kaninchen am Harzrand\, in Südniedersachsen.\n\nSeit mehr al
 s 30 Jahren arbeitet Dagmar im öffentlichen Dienst und ist (unter Anderem
 ) ausgebildete Trauerbegleiterin\, Kurzeitcoach\, freie Traurednerin und a
 uch Hundetrainerin.\n\nIhr Wunsch ist es\, auch trauernde Tierbesitzer:inn
 en unterstützen zu können. Denn egal\, ob es sich um die Trauer um ein v
 erstorbenes Lebewesen oder um die Trauer einer Beziehung\, eines Jobwechse
 ls oder die Trauer um einen Lebensabschnitt handelt: Trauer ist vielfälti
 g und Menschen\, die Hilfe benötigen\, sollten eine Anlaufstelle haben.
ATTACH;FMTTYPE=image/jpeg:https://www.lernwelt-hund.de/wp-content/uploads/
 2024/06/Bildschirmfoto-2024-06-24-um-12.08.39.png
CATEGORIES:Online-Seminar
END:VEVENT
BEGIN:VTIMEZONE
TZID:Europe/Berlin
X-LIC-LOCATION:Europe/Berlin
BEGIN:DAYLIGHT
DTSTART:20240331T030000
TZOFFSETFROM:+0100
TZOFFSETTO:+0200
TZNAME:CEST
END:DAYLIGHT
END:VTIMEZONE
END:VCALENDAR