BEGIN:VCALENDAR
VERSION:2.0
PRODID:-//wp-events-plugin.com//7.2.3.1//EN
TZID:Europe/Berlin
X-WR-TIMEZONE:Europe/Berlin
BEGIN:VEVENT
UID:15@lernwelt-hund.de
DTSTART;TZID=Europe/Berlin;VALUE=DATE:20241130
DTEND;TZID=Europe/Berlin;VALUE=DATE:20241202
DTSTAMP:20241009T064136Z
URL:https://www.lernwelt-hund.de/events/basisseminar-1-2/
SUMMARY:Basisseminar 1.2
DESCRIPTION:Samstag\, 30.11. &amp\; Samstag 01.12.2024 - Sa. 9 Uhr 30 bis 1
 8 Uhr und So. 9 Uhr 30 bis ca. 16:30 Uhr\nin 58239 Schwerte - NRW\n\nIm Mo
 dul 2 (BS) geht es schwerpunktmäßig um eine gute Basis in der Teamkommun
 ikation zwischen Ihnen und Ihrem Hund als wichtige Grundlage für den Eins
 atz in der Schule. Dazu gehören:\n\n 	Die Körpersprache des Hundes: Grun
 dlagen\, Stress- und Konfliktsignale\n 	Die Körpersprache des Hundes in d
 er Praxis: Den Hund lesen lernen\n 	Den Hund im Schulalltag sicher führen
 \n 	Die Basis einer guten Teamkommunikation\n 	Weitere Praktische Übungen
  für den Schulhundalltag\n 	Entspannung &amp\; Entspannungstechniken für
  den Hund\n 	Signalgebung- &amp\; Signalkontrolle\n 	Ankündigungen &amp\;
  Bewältigungsstrategien für den Hund\n\nSie erhalten im Anschluss eine (
 schriftliche) Team-Einschätzung und die Freigabe zur Teilnahme am Weiterb
 ildungsblock Modul 3-6 (PSBI-PSBIV). Eine Teilnahme ist daher nur mit Hund
  möglich und sinnvoll. Ihre (Team)Partner:innen haben aber die Möglichke
 it\, kostengünstig mit Ihnen das Modul 2 zu besuchen und gemeinsam mit Ih
 nen von den dort vermittelten Informationen und Übungen zu profitieren. G
 ern melden Sie sich bei Interesse daran bei uns!\n\nAls Voraussetzung zur 
 Teilnahme am Basisseminar ist die Teilnahme an einem Modul 1 zur Orientier
 ung (OS) notwendig.\n\nDer Weiterbildungsblock Modul 3-6 (PSBI-IV) kann in
 dividuell gewählt werden! Das Basisseminar 1.2 muss nicht zwingend mit de
 m Durchgang 1.2 fortgeführt werden!\n\nAlle Modul-Präsenztermine finden 
 in Doppelbesetzung Pädagogin/ Hundetrainerin statt\, sodass für Sie imme
 r eine optimale Betreuung aus dem pädagogischen und kynologischen Blickwi
 nkel gewährleistet ist.\nInhalt:\n\n 	2 Online-Live-Termine á 1\,5 Stund
 en (Termine werden rechtzeitig bekannt gegeben)\n 	2 Tag in Präsenz in 58
 239 Schwerte\n 	Zugang zur Kursplattform der Lernwelt Hund mit\n\n 	ausfü
 hrlichem Skript\n 	Checklisten\n 	Video-Tutorials zu den praktischen Übun
 gen\n\n\n 	schriftliches Team-Feedback/ Eignungseinschätzung Ihres Hundes
  und Freigabe zur Weiterbildung\n 	Teilnahmebescheinigung\n 	Doppelbetreuu
 ng in Präsenz Pädagogin/ Trainerin\n 	Snacks/ Kalt- &amp\; Warmgetränke
  am Präsenztag (Mittagessen kann bei Bedarf vor Ort auf eigene Kosten bes
 tellt werden)\n\n525€ mit Hund\; steuerbefreit nach § 4 Nr. 21 a) bb) U
 stG\; max. 8 Teilnehmende mit Hund\n\nHinweis: Immer häufiger werden die 
 Weiterbildungsgebühren durch den Schulträger und/ oder den Förderverein
 en der Schulen übernommen! Klären Sie wenn vorab unbedingt die Modalitä
 ten ab und das sich aus der Übernahme der Gebühren KEINE Verpflichtung z
 um Einsatz des Hundes ableiten lässt und der Einsatz immer nur gemeinsam 
 mit Ihnen als Bezugsperson im Team erfolgen kann!\n\n&nbsp\;
ATTACH;FMTTYPE=image/jpeg:https://www.lernwelt-hund.de/wp-content/uploads/
 2024/04/AdobeStock_16760127-scaled.jpeg
CATEGORIES:BS
LOCATION:58239 Schwerte\, Ernst-Gremler-Str. 17\, Schwerte\, NRW\, 58239\, 
 Deutschland
X-APPLE-STRUCTURED-LOCATION;VALUE=URI;X-ADDRESS=Ernst-Gremler-Str. 17\, Sch
 werte\, NRW\, 58239\, Deutschland;X-APPLE-RADIUS=100;X-TITLE=58239 Schwert
 e:geo:0,0
END:VEVENT
BEGIN:VTIMEZONE
TZID:Europe/Berlin
X-LIC-LOCATION:Europe/Berlin
BEGIN:STANDARD
DTSTART:20241027T020000
TZOFFSETFROM:+0200
TZOFFSETTO:+0100
TZNAME:CET
END:STANDARD
END:VTIMEZONE
END:VCALENDAR