BEGIN:VCALENDAR
VERSION:2.0
PRODID:-//wp-events-plugin.com//7.2.3.1//EN
TZID:Europe/Berlin
X-WR-TIMEZONE:Europe/Berlin
BEGIN:VEVENT
UID:39@lernwelt-hund.de
DTSTART;TZID=Europe/Berlin;VALUE=DATE:20251122
DTEND;TZID=Europe/Berlin;VALUE=DATE:20251124
DTSTAMP:20250930T041225Z
URL:https://www.lernwelt-hund.de/events/basisseminar-3-2/
SUMMARY:Basisseminar 3.2
DESCRIPTION:Samstag\, 22./23.11.2025 - 9 Uhr 30 bis 18 Uhr\nin 58239 Schwer
 te - NRW\n\nIm Basiseminar (BS)  geht es schwerpunktmäßig um eine gute 
 Basis in der Teamkommunikation zwischen Ihnen und Ihrem Hund als wichtige 
 Grundlage für den Einsatz in der Schule. Vora\n\nSie erhalten im Anschlus
 s eine (schriftliche) Team-Einschätzung und die Freigabe zur Teilnahme am
  Weiterbildungsblock Modul 3-5 (PSBI-PSBIII). Eine Teilnahme ist daher nur
  mit Hund möglich und sinnvoll. Ihre (Team)Partner:innen haben aber die M
 öglichkeit\, kostengünstig mit Ihnen das Modul 2 zu besuchen und gemeins
 am mit Ihnen von den dort vermittelten Informationen und Übungen zu profi
 tieren. Gern melden Sie sich bei Interesse daran bei uns!\n\nAls Vorausset
 zung zur Teilnahme am Basisseminar ist die Teilnahme an einem Seminar zur 
 Orientierung (OS) notwendig.\n\nDer Weiterbildungsblock Modul 3-5 (PSBI-II
 I) kann im Anschluss nach Verfügbarkeit individuell gewählt werden! Das 
 Basisseminar 3.1 muss nicht zwingend mit dem Durchgang 3.1 fortgeführt we
 rden!\n\nAlle Modul-Präsenztermine finden in Doppelbesetzung Pädagogin/ 
 Hundetrainerin statt\, sodass für Sie immer eine optimale Betreuung aus d
 em pädagogischen und kynologischen Blickwinkel gewährleistet ist.\nInhal
 t:\n\n 	2 Online-Live-Termine á 1\,5 Stunden (Termine werden rechtzeitig 
 bekannt gegeben)\n 	2 Tage in Präsenz in 58239 Schwerte\n 	Zugang zur Kur
 splattform der Lernwelt Hund mit\n\n 	ausführlichen Skripten\n 	Checklist
 en\n 	ausführliches Arbeitsheft zur Weiterbildung\n 	Foto &amp\; Videomat
 erial der Präsenztermine zur eigenen Nachbereitung\n\n\n 	schriftliches T
 eam-Feedback/ Eignungseinschätzung Ihres Hundes und Freigabe zur Weiterbi
 ldung\n 	Teilnahmebescheinigung\n 	Doppelbetreuung in Präsenz Pädagogin/
  Trainerin\n 	Snacks/ Kalt- &amp\; Warmgetränke am Präsenztag (Mittagess
 en kann bei Bedarf vor Ort auf eigene Kosten bestellt werden)\n\n525€ mi
 t Hund\; steuerbefreit nach § 4 Nr. 21 a) bb) UstG\; max. 8 Teilnehmende 
 mit Hund\n\nHinweis:\nImmer häufiger werden die Weiterbildungskosten durc
 h Schulträger und/ oder Fördervereine der Schulen/ Institutionen unterst
 ützt oder ganz übernommen. Der qualifizierte Einsatz von Hunden ist ein 
 Mehrwert\, welcher das Profil der Institutionen schärft und fördert. Ein
  Anfrage lohnt sich daher auf jeden Fall!\n\n\nKlären Sie aber unbedingt 
 vorab die genauen Modalitäten: Aus der Übernahme der Kosten kann sich KE
 INE Verpflichtung zum Einsatz des Hundes ableiten lassen und der Einsatz i
 st immer nur gemeinsam mit Ihnen als Bezugsperson im Team möglich.\n\n&nb
 sp\;
ATTACH;FMTTYPE=image/jpeg:https://www.lernwelt-hund.de/wp-content/uploads/
 2025/02/2025_02_02-50web.jpg
CATEGORIES:BS
LOCATION:58239 Schwerte\, Ernst-Gremler-Str. 17\, Schwerte\, NRW\, 58239\, 
 Deutschland
X-APPLE-STRUCTURED-LOCATION;VALUE=URI;X-ADDRESS=Ernst-Gremler-Str. 17\, Sch
 werte\, NRW\, 58239\, Deutschland;X-APPLE-RADIUS=100;X-TITLE=58239 Schwert
 e:geo:0,0
END:VEVENT
BEGIN:VTIMEZONE
TZID:Europe/Berlin
X-LIC-LOCATION:Europe/Berlin
BEGIN:STANDARD
DTSTART:20251026T020000
TZOFFSETFROM:+0200
TZOFFSETTO:+0100
TZNAME:CET
END:STANDARD
END:VTIMEZONE
END:VCALENDAR