BEGIN:VCALENDAR
VERSION:2.0
PRODID:-//wp-events-plugin.com//7.2.3.1//EN
TZID:Europe/Berlin
X-WR-TIMEZONE:Europe/Berlin
BEGIN:VEVENT
UID:43@lernwelt-hund.de
DTSTART;TZID=Europe/Berlin:20260114T190000
DTEND;TZID=Europe/Berlin:20260114T200000
DTSTAMP:20260114T121517Z
URL:https://www.lernwelt-hund.de/events/kostenloser-info-abend-schulhund/
SUMMARY:Kostenloser Online Info-Abend - Wie wird mein Hund zum Schulhund?
DESCRIPTION:Kostenloser Online Info-Abend von 19 bis ca. 20 Uhr.\n\nDer Ein
 satz von Hunden in Schulen\, kann für Mensch &amp\; Hund eine große Bere
 icherung darstellen\, sofern nicht nur die Bedürfnisse der Menschen\, son
 dern auch die des Hundes berücksichtigt werden. Dazu müssen aber verschi
 edene Grundlagen geschaffen werden.\nDieser kostenlose Info-Abend via ZOOM
  gibt einen ersten Einblick in Begrifflichkeiten &amp\; Voraussetzungen de
 r hundegestützten Pädagogik in der Schule und erläutert Interessierten 
 Aufbau\, Struktur und Haltung der Weiterbildung bei Lernwelt Hund.\nWir we
 rden uns dabei mit folgenden Themen &amp\; Fragen beschäftigen:\n\nWie wi
 rd ein Hund zum Schulhund?\n\nBegriffe\, Definitionen &amp\; Unterschiede:
  Schulbesuchs- &amp\; Schulbegeleithund in Abgrenzung zu Therapiebegleithu
 nden.\n(Alltags)Training für den Schulbegleithund\n\nWas bedeutet:\n\n 	a
 uf Basis positiver Verstärkung?\n 	gleichwürdig\, bedürfnisorientiert\,
  &amp\; selbstwirksam?\n 	hundliche Körpersprache lesen &amp\; richtig ei
 nschätzen lernen?\n 	Wahl &amp\; Kontrolle für den Hund?\n\nSchulische B
 edingungen &amp\; grundsätzliche Fragen\n\n\n\n 	Ist mein Hund geeignet?\
 n 	Ist die Unterstützung des Projektes “Schulhund” durch die Schullei
 tung gegeben?\n 	Was sagen die Kolleg:innen?\n 	Bietet die Schule die räu
 mlichen Bedingungen?\n 	Gibt es rechtliche Vorgaben zum Einsatz eines Schu
 lhundes?\n\nVorbereitung &amp\; Gewöhnung \n\nWenn weniger mehr ist!\n\n 
 	Gewöhnung an die Schule - ab welchem Alter und wie?\n 	Einführung des H
 undes\, Regeln &amp\; Classroom-Management\n\nTeam-Weiterbildung\n\nFür e
 ine Win-Win-Situation von Mensch und Hund.\nOrientiert an der Empfehlung d
 er RiSU* und den Standards des QNS e.V.*\, sollten Pädagog:innen für ein
 en qualifizierten Einsatz des Hundes eine Schulbegleithundteam-Weiterbildu
 ng mit einer Dauer von mindestens 60 Stunden absolvieren\, welche nicht nu
 r den Bereich der hundegestützten Pädagogik intensiv beleuchtet\, sonder
 n insbesondere das Wohlbefinden des Hundes und die Möglichkeiten und Gren
 zen eines Einsatzes vermittelt.\n\nUnd natürlich gibt es die Möglichkeit
 \, Fragen (nicht nur) zur Weiterbildung loszuwerden!\n&nbsp\;\n\n&nbsp\;
ATTACH;FMTTYPE=image/jpeg:https://www.lernwelt-hund.de/wp-content/uploads/
 2025/12/Bildschirmfoto-2025-12-05-um-10.47.17.png
CATEGORIES:Online - Kostenlos
END:VEVENT
BEGIN:VTIMEZONE
TZID:Europe/Berlin
X-LIC-LOCATION:Europe/Berlin
BEGIN:STANDARD
DTSTART:20251026T020000
TZOFFSETFROM:+0200
TZOFFSETTO:+0100
TZNAME:CET
END:STANDARD
END:VTIMEZONE
END:VCALENDAR