BEGIN:VCALENDAR
VERSION:2.0
PRODID:-//wp-events-plugin.com//7.2.3.1//EN
TZID:Europe/Berlin
X-WR-TIMEZONE:Europe/Berlin
BEGIN:VEVENT
UID:21@lernwelt-hund.de
DTSTART;TZID=Europe/Berlin:20250405T093000
DTEND;TZID=Europe/Berlin:20250405T180000
DTSTAMP:20250304T112309Z
URL:https://www.lernwelt-hund.de/events/lesehund/
SUMMARY:Der „Lesehund“ – Leseförderung in Theorie & Praxis
DESCRIPTION:Wieder 1 Platz ohne Hund frei!!\nDer „Lesehund“ – Lesefö
 rderung in Theorie &amp\; Praxis\n05.04.20025 - 9 Uhr 30 bis 18 Uhr in 582
 39 Schwerte\n\nDas Konzept der Leseförderung mit einem „Lesehund“ bie
 tet die Möglichkeit\, Kinder und Jugendliche in einer entspannten und str
 essfreien Atmosphäre zu unterstützen und ihre Lesekompetenzen zu stärke
 n.\n\nDieses praxisorientierte Seminar beleuchtet die Voraussetzungen\, Pl
 anung und Umsetzung des Einsatzes von Hunden in der Leseförderung.\n\nSem
 inarinhalte:\n\n 	Voraussetzungen für den „Lesehund“: Welche Bedingun
 gen müssen erfüllt sein\, damit der Hund von dem Einsatz ebenfalls einen
  Mehrwert hat?\n 	Gestaltung des Umfelds: Wie gestalte ich das Lern- und A
 rbeitssumfeld für Hund und Schüler*innen?\n 	Erkennen des Wohlbefindens 
 des Hundes: Wie lässt sich feststellen\, ob er sich wirklich wohlfühlt\,
  und welche Unterstützung kann ihm geboten werden?\n 	Praktische Umsetzun
 g: Tipps und Beispiele für die hundegestützte Leseförderung beim Einsat
 z von ruhigen und aktiven Hunden.\n 	Mythos Kuschelbär: Kann nur ein ruhi
 ger Hund ein Lesehund sein\, oder gibt es auch Einsatzmöglichkeiten für 
 aktive Hunde\, die nicht kuscheln möchten?\n 	Organisation im Klassenraum
 : Praktische Hinweise zur Integration in den Unterricht und die Gestaltung
  eines Lesebereichs.\n 	Sicherheit und Hygiene: Umgang mit Risiken und Sch
 utzmaßnahmen für Kinder und Hunde.\n\nKinder und Jugendliche sollen durc
 h den gezielten Einsatz von Hunden in der Leseförderung motiviert werden\
 , ihre Lesekompetenzen zu verbessern. Dabei muss großer Wert daraufgelegt
  werden\, dass der Hund sich ebenfalls wohlfühlt und somit eine optimale 
 Grundlage für den Erfolg der Leseförderung geschaffen wird.\n\nZielgrupp
 e\n\nDas Seminar beschäftigt sich ausschließlich mit den Voraussetzungen
  und den individuellen Möglichkeiten im Bereich Leseförderung.\n\nEs ric
 htet sich daher an Pädagogen und Pädagoginnen\, die sich bereits mit den
  Grundbedingungen der hundegestützten Pädagogik in der Schule tiefgehend
  beschäftigt und eine entsprechende Weiterbildung absolviert haben.\n\nZu
 dem dient es als Wahlpflichseminar für Teilnehmende der Ausbildung zum Sc
 hulbegleithund-Team bei Lernwelt Hund und zur Rezertifizierung (nur bei Te
 ilnahme MIT Hund) für ColeCanido-Absolvent:innen.\n\nSie erhalten:\n\n 	1
  Tag in Präsenz in 58239 Schwerte\n 	Zugang zur Kursplattform der Lernwel
 t Hund mit\n\n 	ausführlichem Skript\n 	ergänzenden Materialien\n\n\n 	s
 chriftliches Team-Feedback (Nur für Teilnehmende MIT Hund innerhalb unser
 er Weiterbildung oder zur Rezertifizierung).\n 	Teilnahmebescheinigung\n 	
 Doppelbetreuung in Präsenz Pädagogin/ Trainerin\n 	Snacks/ Kalt- &amp\; 
 Warmgetränke am Präsenztag (Mittagessen kann bei Bedarf vor Ort auf eige
 ne Kosten bestellt werden)\n\nDas Seminar wird von unseren Dozentinnen Yvo
 nne Leidendecker (Pädagogin) und Ulrike Schöttler (Hundetrainerin) durch
 geführt.\n\n330€ mit Hund/ 290€ ohne Hund\; steuerbefreit nach § 4 N
 r. 21 a) bb) UstG\;\n\nmax. 6 Teilnehmende mit Hund\; max. 6 Teilnehmende 
 ohne Hund\n\n&nbsp\;
ATTACH;FMTTYPE=image/jpeg:https://www.lernwelt-hund.de/wp-content/uploads/
 2024/11/Bildschirmfoto-2024-11-18-um-09.57.23.png
CATEGORIES:Offenes Seminar,Präsenzseminar,Rezertifizierung,Wahlpflicht
LOCATION:58239 Schwerte\, Ernst-Gremler-Str. 17\, Schwerte\, NRW\, 58239\, 
 Deutschland
X-APPLE-STRUCTURED-LOCATION;VALUE=URI;X-ADDRESS=Ernst-Gremler-Str. 17\, Sch
 werte\, NRW\, 58239\, Deutschland;X-APPLE-RADIUS=100;X-TITLE=58239 Schwert
 e:geo:0,0
END:VEVENT
BEGIN:VTIMEZONE
TZID:Europe/Berlin
X-LIC-LOCATION:Europe/Berlin
BEGIN:DAYLIGHT
DTSTART:20250330T030000
TZOFFSETFROM:+0100
TZOFFSETTO:+0200
TZNAME:CEST
END:DAYLIGHT
END:VTIMEZONE
END:VCALENDAR