BEGIN:VCALENDAR
VERSION:2.0
PRODID:-//wp-events-plugin.com//7.2.3.1//EN
TZID:Europe/Berlin
X-WR-TIMEZONE:Europe/Berlin
BEGIN:VEVENT
UID:29@lernwelt-hund.de
DTSTART;TZID=Europe/Berlin:20250615T180000
DTEND;TZID=Europe/Berlin:20250615T203000
DTSTAMP:20250616T163711Z
URL:https://www.lernwelt-hund.de/events/online-seminar-hunde-in-krippe-und
 -kita/
SUMMARY:Online-Seminar: Hunde in Krippe und Kita
DESCRIPTION:17.06.2025 - 18 bis ca. 20 Uhr 30\n\nOnline-Seminar: Hunde in K
 rippe und Kita\n\nmit Marie Toffel - www.krippenhund-paedagogik.de\n\nDer 
 Einsatz von Hunden in Krippe und Kita eröffnet wertvolle Möglichkeiten f
 ür die frühkindliche Bildung. Doch wie kann dieser Einsatz bedürfnisori
 entiert und sicher gestaltet werden? Dieses Seminar vermittelt praxisnahes
  Wissen über die Integration von Hunden in den pädagogischen Alltag mit 
 Kindern in Krippe und Kita.\n\nNeben theoretischen Grundlagen zur hundeges
 tützten Pädagogik liegt der Fokus auf einem bedürfnisorientierten Ansat
 z\, der sowohl die Kinder als auch die Hunde berücksichtigt. Zudem erhalt
 en die Teilnehmenden einen Einblick in den „Hundeführerschein für Kita
  und Vorschule“ – ein praxisnahes Material\, das Kindern den sicheren 
 Umgang mit Hunden vermittelt.\n\nThemen des Seminars:\n\n🔹 Grundlagen d
 er hundegestützten Pädagogik in Krippe und Kita\n\n🔹 Bedürfnisorient
 ierter Einsatz von Hunden in der frühkindlichen Bildung\n\n🔹 Sicherhei
 t &amp\; Wohlbefinden von Hund und Kind\n\n🔹 Einführung in den „Hund
 eführerschein für Kita und Vorschule“\n\n🔹 Praxisbeispiele und Umse
 tzungsmöglichkeiten\n\nZielgruppe:\n\nDieses Seminar richtet sich an päd
 agogische Fachkräfte\, die Hunde in ihrem Arbeitsumfeld einsetzen oder de
 n Einsatz planen.\n\nKosten:\n\n49€/ Teilnehmer:in\n\nsteuerbefreit nach
  § 4 Nr. 21 a) bb) UstG\n\n_______________________\n\nMarie Toffel\n\nKin
 dheitspädagogin\, Gründerin von Krippenhund Pädagogik\, Vorstandsmitgli
 ed von VereinT Mensch-Tier-Natur e.V.\, Dozentin im Bereich hundegestützt
 e Pädagogik.\n\nMarie Toffel verbindet ihre langjährige Erfahrung in der
  frühkindlichen Bildung mit ihrer Leidenschaft für die hundegestützte P
 ädagogik. Als Gründerin von "Krippenhund Pädagogik" setzt sie sich für
  eine qualifizierte und sichere Integration von Hunden in pädagogische Ei
 nrichtungen ein. Seit 2020 arbeitet sie mit ihrem Labrador Miro in verschi
 edenen sozialen Einrichtungen mit Kindern ab 6 Monaten.\n\nNeben ihrer Tä
 tigkeit als Dozentin engagiert sich Marie für die Weiterentwicklung von M
 ensch-Hund-Teams im pädagogischen Kontext. Sie bietet Online-Seminare\, H
 ospitationen sowie praxisnahe Materialien wie Methodenkarten und den „Hu
 ndeführerschein für den hundegestützten Einsatz in Kita und Vorschule
 “ an. Als Mitglied im Qualitätsnetzwerk Schulbegleithunde e.V. steht f
 ür sie die Sicherstellung hoher Qualitätsstandards an erster Stelle.\n\n
 Als Vorstandsmitglied des Vereins VereinT Mensch-Tier-Natur e.V. setzt sie
  sich für nachhaltige Bildung und das Miteinander von Mensch und Tier ein
 . Der Verein ist Träger des Lernhof Kassel\, einem besonderen Bildungsort
 \, an dem Kinder naturnahe Erlebnisse mit Tieren erfahren und spielerisch 
 lernen können.\n\nMarie Toffel lebt mit ihrer Familie und ihren Hunden in
  Baunatal\, Hessen.\n\n&nbsp\;\n\n&nbsp\;\n\n&nbsp\;
ATTACH;FMTTYPE=image/jpeg:https://www.lernwelt-hund.de/wp-content/uploads/
 2025/04/KiTa_LWH.png
CATEGORIES:Online-Seminar
END:VEVENT
BEGIN:VTIMEZONE
TZID:Europe/Berlin
X-LIC-LOCATION:Europe/Berlin
BEGIN:DAYLIGHT
DTSTART:20250330T030000
TZOFFSETFROM:+0100
TZOFFSETTO:+0200
TZNAME:CEST
END:DAYLIGHT
END:VTIMEZONE
END:VCALENDAR