BEGIN:VCALENDAR
VERSION:2.0
PRODID:-//wp-events-plugin.com//7.2.3.1//EN
TZID:Europe/Berlin
X-WR-TIMEZONE:Europe/Berlin
BEGIN:VEVENT
UID:2@lernwelt-hund.de
DTSTART;TZID=Europe/Berlin:20240929T093000
DTEND;TZID=Europe/Berlin:20240929T180000
DTSTAMP:20240828T093118Z
URL:https://www.lernwelt-hund.de/events/orientierungsseminar-1-2/
SUMMARY:Orientierungsseminar 1.2
DESCRIPTION:Schulstart-Aktion! Bei Buchung eines Orientierungsseminares 1.1
  oder 1.2 bis zum 31.08.2024 erhalten Sie für das anschließende Basissem
 inar 1.1 oder 1.2 und die Praxisblöcke 1.1 oder 1.2  einen Rabatt von je
 weils 30€/ Modul 2-6! (Gesamtersparnis 150€) *\n\n*Die Aktion gilt bei
  Buchung eines Platzes im Orientierungssemianr 1.1 oder 1.2 bis einschlie
 ßlich 31.08.2024. Sie erhalten nach Buchung einen Rabattcode. Der Rabattc
 ode ist nicht übertragbar und nur jeweils einmal gültig für das Basisse
 minar 1.1 oder 1.2 und den Praxisblock 1.1 oder 1.2.\n\n\n\nSonntag\, 29.0
 9.2024 - 9 Uhr 30 bis 18 Uhr\nin 58239 Schwerte - NRW\n\nUnsere Weiterbild
 ung richtet sich an Lehrer:innen\, Sozialarbeiter:innen und Erzieher:innen
 \, die ihre Hunde im Wirkungsfeld Schule\, KiTa und/ oder OGS qualifiziert
  einsetzen möchten.\n\nDas Orientierungsseminar erlaubt in die Weiterbild
 ung "hineinzuschnuppern" und gibt eine erste Einführung in und einen Übe
 rblick über die hundegestützte Pädagogik in der Schule (HuPäSch). Die 
 Schwerpunktthemen sind:\n\n 	Tiergestützte Intervention – Bereich HuPä
 Sch\n 	Einsatzfelder &amp\; Wirkungen von Schulbegleithunden\n 	Rechtliche
  Grundlagen &amp\; Definitionen\n 	Trainings-Grundlagen zum Einsatz in The
 orie &amp\; Praxis: Lerntheorie &amp\; Körpersprache\n 	Praktische Übung
 en für den Schulhundalltag\n 	Voraussetzungen für den Einsatz in der Sch
 ule: Mensch\, Hund &amp\; Institution\n 	Voraussetzungen für die Weiterbi
 ldung\n\nEs klärt zusätzlich  für Sie Frage: „Ist diese Weiterbildun
 g die Richtige für mich?“ und Sie bekommen – bei Teilnahme mit Hund 
 – eine erste (schrifliche) Grundeinschätzung zur Eignung Ihres Hundes. 
 Eine Teilnahme ist hier mit und ohne Hund möglich.\n\nDie anschließenden
  Module 2 (BS) und der Weiterbildungsblock Modul 3-6 (PSBI-IV) können ind
 ividuell gewählt werden! Das Orientierungsseminar 1.2 muss nicht zwingend
  mit dem BS 1.2 oder Durchgang 1.2 fortgeführt werden!\n\nAlle Modul-Prä
 senztermine finden in Doppelbesetzung Pädagogin/ Hundetrainerin statt\, s
 odass für Sie immer eine optimale Betreuung aus dem pädagogischen und ky
 nologischen Blickwinkel gewährleistet ist.\nSie erhalten:\n\n 	2 Online-L
 ive-Termine á 1\,5 Stunden (Termine werden rechtzeitig bekannt gegeben)\n
  	1 Tag in Präsenz in 58239 Schwerte\n 	Zugang zur Kursplattform der Lern
 welt Hund mit\n\n 	ausführlichem Skript\n 	Checklisten\n 	Video-Tutorials
  zu den praktischen Übungen\n\n\n 	schriftliches Team-Feedback/ erste Eig
 nungseinschätzung Ihres Hundes\n 	Teilnahmebescheinigung\n 	Doppelbetreuu
 ng in Präsenz Pädagogin/ Trainerin\n 	Snacks/ Kalt- &amp\; Warmgetränke
  am Präsenztag (Mittagessen kann bei Bedarf vor Ort auf eigene Kosten bes
 tellt werden)\n\n330€ mit Hund/ 290€ ohne Hund\; steuerbefreit nach §
  4 Nr. 21 a) bb) UstG\;\n\nmax. 6 Teilnehmende mit Hund\; max. 6 Teilnehme
 nde ohne Hund\n\nHinweis: Immer häufiger werden die Weiterbildungsgebühr
 en durch den Schulträger und/ oder den Fördervereinen der Schulen übern
 ommen! Kären Sie wenn vorab unbedingt die Modalitäten ab und das sich au
 s der Übernahme der Gebühren KEINE Verpflichtung zum Einsatz des Hundes 
 ableiten lässt und der Einsatz immer nur gemeinsam mit Ihnen als Bezugspe
 rson im Team erfolgen kann!\n\n&nbsp\;
ATTACH;FMTTYPE=image/jpeg:https://www.lernwelt-hund.de/wp-content/uploads/
 2024/04/Bildschirmfoto-2024-08-18-um-11.42.03.png
CATEGORIES:OS
LOCATION:58239 Schwerte\, Ernst-Gremler-Str. 17\, Schwerte\, NRW\, 58239\, 
 Deutschland
X-APPLE-STRUCTURED-LOCATION;VALUE=URI;X-ADDRESS=Ernst-Gremler-Str. 17\, Sch
 werte\, NRW\, 58239\, Deutschland;X-APPLE-RADIUS=100;X-TITLE=58239 Schwert
 e:geo:0,0
END:VEVENT
BEGIN:VTIMEZONE
TZID:Europe/Berlin
X-LIC-LOCATION:Europe/Berlin
BEGIN:DAYLIGHT
DTSTART:20240331T030000
TZOFFSETFROM:+0100
TZOFFSETTO:+0200
TZNAME:CEST
END:DAYLIGHT
END:VTIMEZONE
END:VCALENDAR