BEGIN:VCALENDAR
VERSION:2.0
PRODID:-//wp-events-plugin.com//7.2.3.1//EN
TZID:Europe/Berlin
X-WR-TIMEZONE:Europe/Berlin
BEGIN:VEVENT
UID:46@lernwelt-hund.de
DTSTART;TZID=Europe/Berlin:20260310T180000
DTEND;TZID=Europe/Berlin:20260310T193000
DTSTAMP:20260122T083645Z
URL:https://www.lernwelt-hund.de/events/paedagogikbegleithund-teamtraineri
 n/
SUMMARY:Pädagogikbegleithund-Teamtrainer:in
DESCRIPTION:Online-Weiterbildung - AUSGEBUCHT\nPädagogikbegleithund-Teamtr
 ainer:in\nDiese Weiterbildung war schneller ausgebucht als gedacht - wir p
 lanen aber schon eine weitere Reihe für den Herbst.\n\nTermine:\nKick-off
 : Di.\, 08.09.2026 | 18:00–19:30 Uhr\nModule (jeweils dienstags\, 18:00
 –20:30 Uhr): 15.09. | 29.09. | 13.10. | – Herbstferien – | 03.11. 
 | 17.11. | 01.12.2026\nDiese praxisnahe Online-Weiterbildung richtet sich 
 an erfahrene Hundetrainer:innen und Fachkräfte im tiergestützten Kontext
 \, die Pädagogikbegleithund-Teams vor\, während und nach einer Weiterbil
 dung fachlich fundiert begleiten möchten.\nIm Fokus steht die kontinuierl
 iche Unterstützung von Mensch-Hund-Teams im pädagogischen Einsatz – al
 s verbindendes Element zwischen Ausbildungsinstituten\, Trainer:innen und 
 Praxis. Die Weiterbildung stärkt Fachwissen\, ethische Haltung und Handlu
 ngssicherheit und fördert den Aufbau regionaler Unterstützungs- und Netz
 werkstrukturen.\n\nKurzüberblick\n\n 	\nFormat: Online-Live-Weiterbildung
  (Zoom)\n\n 	\nUmfang: 6 Module à 2\,5 Std. + Online-Kick-off (1\,5 Std.)
 \n\n 	\nGesamt: 16\,5 Zeitstunden\n\n 	\nGruppengröße: mind. 4– max. 8
  Teilnehmende\n\n 	empfohlen vom Qualitätsnetzwerk Schulbegelithunde/QNS)
  e.V.\n 	anerkannt vom Internationalen Berufsverband der Hundetrainer:inne
 n &amp\; Hundeunternehmer:innen (IBH e.V.) mit 24 Punkten.\n\n\n 	\nKosten
 : 480 € | ermäßigt 420 € (QNS e. V. / IBH e. V.)\, Die Gebühren sin
 d steuerbefreit nach § 4 Nr. 21 a) bb) UstG (durch die Bezirksregierung A
 rnsberg).\n\n\nTermine\n\n 	\nKick-off: Di\, 10.03.2026 | 18:00–19:30 Uh
 r\n\n 	\nModule (jeweils dienstags\, 18:00–20:30 Uhr):17.03. | 14.04. | 
 28.04. | 12.05. | 02.06. | 16.06.2026\n\n\nZielgruppe\n\n 	\nHundetrainer:
 innen mit Berufserfahrung\n\n 	\nFachkräfte im tiergestützten Arbeiten m
 it Trainings- oder Beratungshintergrund\n\n\nWichtig\n\n 	\nDiese Weiterbi
 ldung ist keine Ausbildung für Pädagogikbegleithund-Team.\n\n 	Das Anlie
 gen dieser Weiterbildung ist es\, Trainer:innen zu befähigen\, Pädagogik
 begleithund-Teams eine qualitativ hochwertige\, möglichst wohnortnahe und
  kontinuierliche Begleitung während ihrer  Weiterbildungszeit zu ermögl
 ichen.\n 	\nDie Termine finden ausschließlich live statt – es gibt kein
 e Aufzeichnungen. Eine aktive Teilnahme wird vorausgesetzt.\n\n 	\nEine Te
 ilnahmebescheinigung wird bei mindestens 80 % Anwesenheit (5 von 6 Modulen
 ) ausgestellt.\n\n\nAlle ausführlichen Information zu Ablauf und Inhalt f
 inden Sie hier
ATTACH;FMTTYPE=image/jpeg:https://www.lernwelt-hund.de/wp-content/uploads/
 2026/01/Bildschirmfoto-2026-01-16-um-12.01.14.png
CATEGORIES:Online-Seminar
END:VEVENT
BEGIN:VTIMEZONE
TZID:Europe/Berlin
X-LIC-LOCATION:Europe/Berlin
BEGIN:STANDARD
DTSTART:20251026T020000
TZOFFSETFROM:+0200
TZOFFSETTO:+0100
TZNAME:CET
END:STANDARD
END:VTIMEZONE
END:VCALENDAR