BEGIN:VCALENDAR
VERSION:2.0
PRODID:-//wp-events-plugin.com//7.2.3.1//EN
TZID:Europe/Berlin
X-WR-TIMEZONE:Europe/Berlin
BEGIN:VEVENT
UID:42@lernwelt-hund.de
DTSTART;TZID=Europe/Berlin;VALUE=DATE:20260221
DTEND;TZID=Europe/Berlin;VALUE=DATE:20260223
DTSTAMP:20260311T083656Z
URL:https://www.lernwelt-hund.de/events/praxisblock-3-2-schulbegleithund-w
 eiterbildung/
SUMMARY:Praxisblock 3.2 - Schulbegleithund-Weiterbildung
DESCRIPTION:Modul 3 bis Modul 5  – Praxisblock 3.2 - AUSGEBUCHT\nIn unse
 rem Praxisblock mit den Modulen 3-5 (PSBI-PSBIII) bekommen Sie über Infor
 mationen zu Einsatzbereichen &amp\; Wirkungsweisen\, Möglichkeiten &amp\;
  Grenzen\, dem Einsatzsetting &amp\; Classroom-Management\, sowie über vi
 ele praktische Übungen für den Einsatz u.v.m alles Notwendige an die Han
 d\, um Ihren Hund qualifiziert einsetzen zu können und die Weiterbildung 
 mit der Zertifizierung abschließen zu können.\n\nAls Voraussetzung zur T
 eilnahme am Praxissblock ist die Teilnahme an einem Modul 1 zur Orientieru
 ng (OS) und die „Freigabe“ nach Modul 2 (BS) erforderlich (s. Modulüb
 ersicht). Das Modul 1 (OS) gibt Ihnen einen ersten Einblick in die Grundvo
 raussetzungen der hundegestützten Pädagogik in der Schule (HuPäSch) und
  im Modul 2 erhalten Sie eine Eignungseinschätzung Ihres Hundes und die 
 „Freigabe“ zur Teilnahme am Weiterbildungsblock.\n\nPräsenz-Termine P
 raxisblock 3.2:\n\n\n\nModul 3 – PSBI\n3.2\n21./22.02.26\n2 Tage/ 13 UE\
 n\n\nModul 4 – PSBII\n3.2\n18./19.04.26\n2 Tage/ 13 UE\n\n\nModul 5 – 
 PSBIII\n3.2\n06./07.06.26\n2 Tage/ 13 UE\n\n\nZertifizierung\n\nnach indiv
 idueller Vereinbarung\n\n\n\nIn den Gesamtgebühren des Praxisblocks sind 
 enthalten:\n\n 	6 Tage in Präsenz in 58239 Schwerte\n 	4 Online-Live-Term
 ine á 2\,5 Stunden\n 	Zugang zur Kursplattform der Lernwelt Hund mit\n\n 
 	ausführlichen Skripten\n 	Checklisten\n 	Video-Tutorials zu den praktisc
 hen Übungen\n 	ausführliches Arbeitsheft zur Weiterbildung\n 	Foto &amp\
 ; Videomaterial der Präsenztermine zur eigenen Nachbereitung\n\n\n 	schri
 ftliches Team-Feedback zu jedem Präsenztermin\n 	Teilnahmebescheinigung z
 u jedem Modul\n 	Doppelbetreuung in jedem Präsenztermin Pädagogin/ Train
 erin\n 	Snacks/ Kalt- &amp\; Warmgetränke an Präsenztagen (Mittagessen k
 ann bei Bedarf vor Ort auf eigene Kosten bestellt werden\n\nKosten pro Mod
 ul 525€. Jeweils zahlbar gegen Rechnung vor den Modulen 3-5\, Gesamtkost
 en: 1575€.\n\nBei Buchung bestätigen Sie die verbindliche Teilnahme an 
 den Modulen 3-5.\n\nMax. 8 Mensch-Hund-Teams/ Praxissblock.\n\nDie Gebühr
 en sind steuerbefreit nach § 4 Nr. 21 a) bb) UstG (durch die Bezirksregie
 rung Arnsberg).\n\nHinweis: Immer häufiger werden die Weiterbildungsgebü
 hren durch den Schulträger und/ oder den Fördervereinen der Schulen übe
 rnommen! Kären Sie wenn vorab unbedingt die Modalitäten ab und das sich 
 aus der Übernahme der Gebühren KEINE Verpflichtung zum Einsatz des Hunde
 s ableiten lässt und der Einsatz immer nur gemeinsam mit Ihnen als Bezugs
 person im Team erfolgen kann!
ATTACH;FMTTYPE=image/jpeg:https://www.lernwelt-hund.de/wp-content/uploads/
 2025/02/AdobeStock_536975903-scaled.jpeg
CATEGORIES:PSB
LOCATION:58239 Schwerte\, Ernst-Gremler-Str. 17\, Schwerte\, NRW\, 58239\, 
 Deutschland
X-APPLE-STRUCTURED-LOCATION;VALUE=URI;X-ADDRESS=Ernst-Gremler-Str. 17\, Sch
 werte\, NRW\, 58239\, Deutschland;X-APPLE-RADIUS=100;X-TITLE=58239 Schwert
 e:geo:0,0
END:VEVENT
BEGIN:VTIMEZONE
TZID:Europe/Berlin
X-LIC-LOCATION:Europe/Berlin
BEGIN:STANDARD
DTSTART:20251026T020000
TZOFFSETFROM:+0200
TZOFFSETTO:+0100
TZNAME:CET
END:STANDARD
END:VTIMEZONE
END:VCALENDAR