BEGIN:VCALENDAR
VERSION:2.0
PRODID:-//wp-events-plugin.com//7.2.3.1//EN
TZID:Europe/Berlin
X-WR-TIMEZONE:Europe/Berlin
BEGIN:VEVENT
UID:59@lernwelt-hund.de
DTSTART;TZID=Europe/Berlin:20260702T190000
DTEND;TZID=Europe/Berlin:20260702T200000
DTSTAMP:20260424T072112Z
URL:https://www.lernwelt-hund.de/events/schulhund/
SUMMARY:Wie wird mein Hund zum Schulhund?
DESCRIPTION:Kostenloser Online Info-Abend von 19 bis ca. 20 Uhr.\n\nDer Ein
 satz von Hunden in Schulen\, kann für Mensch &amp\; Hund eine große Bere
 icherung darstellen\, sofern nicht nur die Bedürfnisse der Menschen\, son
 dern auch die des Hundes berücksichtigt werden. Dazu müssen aber verschi
 edene Grundlagen geschaffen werden.\nDieser kostenlose Info-Abend via ZOOM
  gibt einen ersten Einblick in Begrifflichkeiten &amp\; Voraussetzungen de
 r hundegestützten Pädagogik in der Schule und erläutert Interessierten 
 Aufbau\, Struktur und Haltung der Weiterbildung bei Lernwelt Hund.\nWir we
 rden uns dabei mit folgenden Themen &amp\; Fragen beschäftigen:\n\nWie wi
 rd ein Hund zum Schulhund?\n\nVoraussetzungen\, Möglichkeiten &amp\; Unte
 rschiede: Schulbesuchs- &amp\; Schulbegeleithund in Abgrenzung zu Therapie
 begleithunden.\n(Alltags)Training für den Schulbegleithund\n\nWas bedeute
 t:\n\n 	auf Basis positiver Verstärkung?\n 	gleichwürdig\, bedürfnisori
 entiert\, &amp\; selbstwirksam?\n 	hundliche Körpersprache lesen &amp\; r
 ichtig einschätzen lernen?\n 	Wahl &amp\; Kontrolle für den Hund?\n\nSch
 ulische Bedingungen &amp\; grundsätzliche Fragen\n\n\n\n 	Ist mein Hund g
 eeignet?\n 	Ist die Unterstützung des Projektes “Schulhund” durch die
  Schulleitung gegeben?\n 	Was sagen die Kolleg:innen?\n 	Bietet die Schule
  die räumlichen Bedingungen?\n 	Gibt es rechtliche Vorgaben zum Einsatz e
 ines Schulhundes?\n\nVorbereitung &amp\; Gewöhnung \n\nWenn weniger mehr 
 ist!\n\n 	Gewöhnung an die Schule - ab welchem Alter und wie?\n 	Einführ
 ung des Hundes\, Regeln &amp\; Classroom-Management\n\nTeam-Weiterbildung\
 n\nFür eine Win-Win-Situation von Mensch und Hund.\nOrientiert an der Emp
 fehlung der RiSU* und den Standards des QNS e.V.*\, sollten Pädagog:innen
  für einen qualifizierten Einsatz des Hundes eine Schulbegleithundteam-We
 iterbildung mit einer Dauer von mindestens 60 Stunden absolvieren\, welche
  nicht nur den Bereich der hundegestützten Pädagogik intensiv beleuchtet
 \, sondern insbesondere das Wohlbefinden des Hundes und die Möglichkeiten
  und Grenzen eines Einsatzes vermittelt.\n\nUnd natürlich gibt es die Mö
 glichkeit\, Fragen (nicht nur) zu unserer Weiterbildung zu stellen.\n&nbsp
 \;\n\n&nbsp\;
ATTACH;FMTTYPE=image/jpeg:https://www.lernwelt-hund.de/wp-content/uploads/
 2026/04/100.png
CATEGORIES:Online - Kostenlos
END:VEVENT
BEGIN:VTIMEZONE
TZID:Europe/Berlin
X-LIC-LOCATION:Europe/Berlin
BEGIN:DAYLIGHT
DTSTART:20260329T030000
TZOFFSETFROM:+0100
TZOFFSETTO:+0200
TZNAME:CEST
END:DAYLIGHT
END:VTIMEZONE
END:VCALENDAR