BEGIN:VCALENDAR
VERSION:2.0
PRODID:-//wp-events-plugin.com//7.2.3.1//EN
TZID:Europe/Berlin
X-WR-TIMEZONE:Europe/Berlin
BEGIN:VEVENT
UID:30@lernwelt-hund.de
DTSTART;TZID=Europe/Berlin:20250701T190000
DTEND;TZID=Europe/Berlin:20250701T203000
DTSTAMP:20250630T090636Z
URL:https://www.lernwelt-hund.de/events/schulhundtraining/
SUMMARY:Gutes Schulhundtraining – was macht den Unterschied?
DESCRIPTION:Gutes Schulhundtraining – was macht den Unterschied?\n📅 Di
 enstag\, 01. Juli 2025🕖 19:00 Uhr (ca. 90 Minuten)📍 Online via Zoom
 🎥 Hinweis: Die Veranstaltung findet live statt – es wird keine Aufzei
 chnung geben.\n\nWorum geht es?\nGutes Schulhundtraining ist mehr als das 
 Einüben einzelner Signale. Aber was bedeutet „gut“ konkret im Schulal
 ltag?In diesem interaktiven Live-Talk geht es um die Grundlagen wirksamen\
 , tierschutzorientierten Trainings für Schulbegleithunde – mit fachlich
 em Input\, Beispielen aus der Praxis und Raum für Rückfragen.\n\nInhalte
  des Abends:\n\n 	\nGrundprinzipien und sinnvolle Trainingsansätze\n\n 	\
 nWas über „Sitz“\, „Platz“ und „Bleib“ hinaus wichtig ist\n\n
  	\nKleine\, alltagstaugliche Übungen mit großer Wirkung\n\n 	\nPraxisbe
 ispiele und Einblicke aus dem Einsatz\n\n 	\nZeit für Fragen und kurze Di
 skussionen mit der Gruppe\n\n\nFür wen ist das Format gedacht?\n\n 	\nLeh
 rkräfte und Pädagog:innen mit Schulbegeleithund (oder in Vorbereitung)\n
 \n 	\nHundetrainer:innen mit Bezug zur Schulhundarbeit\n\n 	\nAlle\, die f
 achlich fundierte Einblicke oder Vertiefung suchen\n\n\nReferentin: Kirste
 n Berger\nKirsten Berger ist Hundetrainerin  und Autorin des Buches „Sc
 hulbegleithund in Ausbildung“.Mit ihrer langjährigen Erfahrung in der S
 chulhundarbeit vermittelt sie fundiertes Wissen\, das praxisnah und alltag
 stauglich ist.\nMehr über ihre Arbeit: www.dogs-track.de
ATTACH;FMTTYPE=image/jpeg:https://www.lernwelt-hund.de/wp-content/uploads/
 2025/06/Training_LWH_07.25.png
CATEGORIES:Online-Seminar
END:VEVENT
BEGIN:VTIMEZONE
TZID:Europe/Berlin
X-LIC-LOCATION:Europe/Berlin
BEGIN:DAYLIGHT
DTSTART:20250330T030000
TZOFFSETFROM:+0100
TZOFFSETTO:+0200
TZNAME:CEST
END:DAYLIGHT
END:VTIMEZONE
END:VCALENDAR